Package: HiCBricks Version: 1.25.0 Command: /home/biocbuild/R/R/bin/R CMD build --keep-empty-dirs --no-resave-data HiCBricks StartedAt: 2025-01-28 23:34:24 -0000 (Tue, 28 Jan 2025) EndedAt: 2025-01-28 23:36:11 -0000 (Tue, 28 Jan 2025) EllapsedTime: 107.1 seconds RetCode: 0 Status: OK PackageFile: HiCBricks_1.25.0.tar.gz PackageFileSize: 4.006 MiB