Package: HiCBricks Version: 1.25.0 Command: rm -rf HiCBricks.buildbin-libdir && mkdir HiCBricks.buildbin-libdir && /Users/biocbuild/BBS/utils/build-universal.sh HiCBricks_1.25.0.tar.gz /Library/Frameworks/R.framework/Resources/bin/R HiCBricks.buildbin-libdir StartedAt: 2025-02-13 00:40:37 -0500 (Thu, 13 Feb 2025) EndedAt: 2025-02-13 00:41:06 -0500 (Thu, 13 Feb 2025) EllapsedTime: 28.8 seconds RetCode: 0 Status: OK PackageFile: HiCBricks_1.25.0.tgz PackageFileSize: 9.092 MiB