Package: HiCBricks Version: 1.25.0 Command: /Library/Frameworks/R.framework/Resources/bin/R CMD build --keep-empty-dirs --no-resave-data HiCBricks StartedAt: 2025-02-09 17:03:57 -0500 (Sun, 09 Feb 2025) EndedAt: 2025-02-09 17:05:30 -0500 (Sun, 09 Feb 2025) EllapsedTime: 92.4 seconds RetCode: 0 Status: OK PackageFile: HiCBricks_1.25.0.tar.gz PackageFileSize: 8.598 MiB