Package: HiCBricks Version: 1.25.0 Command: /Library/Frameworks/R.framework/Resources/bin/R CMD check --install=check:HiCBricks.install-out.txt --library=/Library/Frameworks/R.framework/Resources/library --no-vignettes --timings HiCBricks_1.25.0.tar.gz StartedAt: 2025-02-09 21:14:26 -0500 (Sun, 09 Feb 2025) EndedAt: 2025-02-09 21:17:22 -0500 (Sun, 09 Feb 2025) EllapsedTime: 176.2 seconds RetCode: 0 Status: OK CheckDir: HiCBricks.Rcheck Warnings: 0