Package: HiCDCPlus Version: 1.15.0 Command: rm -rf HiCDCPlus.buildbin-libdir && mkdir HiCDCPlus.buildbin-libdir && /Users/biocbuild/BBS/utils/build-universal.sh HiCDCPlus_1.15.0.tar.gz /Library/Frameworks/R.framework/Resources/bin/R HiCDCPlus.buildbin-libdir StartedAt: 2025-02-09 22:17:19 -0500 (Sun, 09 Feb 2025) EndedAt: 2025-02-09 22:17:37 -0500 (Sun, 09 Feb 2025) EllapsedTime: 18.4 seconds RetCode: 0 Status: OK PackageFile: HiCDCPlus_1.15.0.tgz PackageFileSize: 1.418 MiB