Package: HiCDCPlus Version: 1.15.0 Command: /home/biocbuild/R/R/bin/R CMD build --keep-empty-dirs --no-resave-data HiCDCPlus StartedAt: 2025-01-28 23:34:45 -0000 (Tue, 28 Jan 2025) EndedAt: 2025-01-28 23:38:04 -0000 (Tue, 28 Jan 2025) EllapsedTime: 199.0 seconds RetCode: 0 Status: OK PackageFile: HiCDCPlus_1.15.0.tar.gz PackageFileSize: 1.21 MiB