Package: HiCDCPlus Version: 1.15.0 Command: /Library/Frameworks/R.framework/Resources/bin/R CMD INSTALL HiCDCPlus StartedAt: 2025-02-09 15:30:36 -0500 (Sun, 09 Feb 2025) EndedAt: 2025-02-09 15:31:33 -0500 (Sun, 09 Feb 2025) EllapsedTime: 57.1 seconds RetCode: 0 Status: OK