Package: HiCDCPlus Version: 1.15.0 Command: /home/biocbuild/bbs-3.21-bioc/R/bin/R CMD check --install=check:HiCDCPlus.install-out.txt --library=/home/biocbuild/bbs-3.21-bioc/R/site-library --timings HiCDCPlus_1.15.0.tar.gz StartedAt: 2025-02-04 23:05:54 -0500 (Tue, 04 Feb 2025) EndedAt: 2025-02-04 23:12:47 -0500 (Tue, 04 Feb 2025) EllapsedTime: 413.8 seconds RetCode: 0 Status: OK CheckDir: HiCDCPlus.Rcheck Warnings: 0