Package: HiCDCPlus Version: 1.15.0 Command: /home/biocbuild/bbs-3.21-bioc/R/bin/R CMD INSTALL HiCDCPlus StartedAt: 2025-02-04 15:49:16 -0500 (Tue, 04 Feb 2025) EndedAt: 2025-02-04 15:49:59 -0500 (Tue, 04 Feb 2025) EllapsedTime: 43.6 seconds RetCode: 0 Status: OK