Package: HiCDCPlus Version: 1.15.0 Command: rm -rf HiCDCPlus.buildbin-libdir && mkdir HiCDCPlus.buildbin-libdir && E:\biocbuild\bbs-3.21-bioc\R\bin\R.exe CMD INSTALL --build --library=HiCDCPlus.buildbin-libdir HiCDCPlus_1.15.0.tar.gz StartedAt: 2025-02-10 07:55:11 -0500 (Mon, 10 Feb 2025) EndedAt: 2025-02-10 07:56:21 -0500 (Mon, 10 Feb 2025) EllapsedTime: 69.5 seconds RetCode: 0 Status: OK PackageFile: HiCDCPlus_1.15.0.zip PackageFileSize: 1.766 MiB