Package: HiCDCPlus Version: 1.15.0 Command: chmod a+r HiCDCPlus -R && E:\biocbuild\bbs-3.21-bioc\R\bin\R.exe CMD build --keep-empty-dirs --no-resave-data HiCDCPlus StartedAt: 2025-02-09 19:13:09 -0500 (Sun, 09 Feb 2025) EndedAt: 2025-02-09 19:17:47 -0500 (Sun, 09 Feb 2025) EllapsedTime: 277.7 seconds RetCode: 0 Status: OK PackageFile: HiCDCPlus_1.15.0.tar.gz PackageFileSize: 1.189 MiB