Package: HiCDOC Version: 1.9.2 Maintainer: Maigné Élise MaintainerEmail: elise.maigne at inrae.fr git_url: https://git.bioconductor.org/packages/HiCDOC git_branch: devel git_last_commit: 43dadba git_last_commit_date: 2024-12-12 05:19:53 -0500 (Thu, 12 Dec 2024)