Package: HiCDOC Version: 1.9.2 Command: /Library/Frameworks/R.framework/Resources/bin/R CMD INSTALL HiCDOC StartedAt: 2025-02-09 15:15:33 -0500 (Sun, 09 Feb 2025) EndedAt: 2025-02-09 15:16:37 -0500 (Sun, 09 Feb 2025) EllapsedTime: 64.6 seconds RetCode: 0 Status: OK