Package: HiCDOC Version: 1.9.2 Command: /home/biocbuild/bbs-3.21-bioc/R/bin/R CMD build --keep-empty-dirs --no-resave-data HiCDOC StartedAt: 2025-02-09 17:37:55 -0500 (Sun, 09 Feb 2025) EndedAt: 2025-02-09 17:40:14 -0500 (Sun, 09 Feb 2025) EllapsedTime: 139.2 seconds RetCode: 0 Status: OK PackageFile: HiCDOC_1.9.2.tar.gz PackageFileSize: 3.418 MiB