Package: HiCDOC Version: 1.9.2 Command: /home/biocbuild/bbs-3.21-bioc/R/bin/R CMD check --install=check:HiCDOC.install-out.txt --library=/home/biocbuild/bbs-3.21-bioc/R/site-library --timings HiCDOC_1.9.2.tar.gz StartedAt: 2025-02-09 23:06:46 -0500 (Sun, 09 Feb 2025) EndedAt: 2025-02-09 23:15:53 -0500 (Sun, 09 Feb 2025) EllapsedTime: 547.7 seconds RetCode: 0 Status: OK CheckDir: HiCDOC.Rcheck Warnings: 0