Package: HiCDOC Version: 1.9.0 Command: rm -rf HiCDOC.buildbin-libdir && mkdir HiCDOC.buildbin-libdir && E:\biocbuild\bbs-3.21-bioc\R\bin\R.exe CMD INSTALL --build --library=HiCDOC.buildbin-libdir HiCDOC_1.9.0.tar.gz StartedAt: 2024-12-12 07:26:24 -0500 (Thu, 12 Dec 2024) EndedAt: 2024-12-12 07:27:29 -0500 (Thu, 12 Dec 2024) EllapsedTime: 65.8 seconds RetCode: 0 Status: OK PackageFile: HiCDOC_1.9.0.zip PackageFileSize: 3.29 MiB