Package: HiCExperiment Version: 1.7.0 Command: /home/biocbuild/R/R/bin/R CMD build --keep-empty-dirs --no-resave-data HiCExperiment StartedAt: 2025-01-28 23:35:14 -0000 (Tue, 28 Jan 2025) EndedAt: 2025-01-28 23:36:22 -0000 (Tue, 28 Jan 2025) EllapsedTime: 68.0 seconds RetCode: 1 Status: ERROR PackageFile: None PackageFileSize: NA