Package: HiCExperiment Version: 1.7.0 Command: chmod a+r HiCExperiment -R && E:\biocbuild\bbs-3.21-bioc\R\bin\R.exe CMD build --keep-empty-dirs --no-resave-data HiCExperiment StartedAt: 2025-02-12 19:19:18 -0500 (Wed, 12 Feb 2025) EndedAt: 2025-02-12 19:24:30 -0500 (Wed, 12 Feb 2025) EllapsedTime: 311.9 seconds RetCode: 0 Status: OK PackageFile: HiCExperiment_1.7.0.tar.gz PackageFileSize: 1011 KiB