Package: HiCcompare Version: 1.29.0 Command: /Library/Frameworks/R.framework/Resources/bin/R CMD check --install=check:HiCcompare.install-out.txt --library=/Library/Frameworks/R.framework/Resources/library --no-vignettes --timings HiCcompare_1.29.0.tar.gz StartedAt: 2025-02-09 19:37:21 -0500 (Sun, 09 Feb 2025) EndedAt: 2025-02-09 19:38:44 -0500 (Sun, 09 Feb 2025) EllapsedTime: 83.0 seconds RetCode: 0 Status: OK CheckDir: HiCcompare.Rcheck Warnings: 0