Package: HiCcompare Version: 1.29.0 Command: /home/biocbuild/R/R/bin/R CMD INSTALL HiCcompare StartedAt: 2025-01-29 19:45:29 -0000 (Wed, 29 Jan 2025) EndedAt: 2025-01-29 19:46:15 -0000 (Wed, 29 Jan 2025) EllapsedTime: 45.7 seconds RetCode: 0 Status: OK