Package: HiCcompare Version: 1.29.0 Command: /home/biocbuild/bbs-3.21-bioc/R/bin/R CMD check --install=check:HiCcompare.install-out.txt --library=/home/biocbuild/bbs-3.21-bioc/R/site-library --timings HiCcompare_1.29.0.tar.gz StartedAt: 2025-02-09 23:06:10 -0500 (Sun, 09 Feb 2025) EndedAt: 2025-02-09 23:10:10 -0500 (Sun, 09 Feb 2025) EllapsedTime: 240.3 seconds RetCode: 0 Status: OK CheckDir: HiCcompare.Rcheck Warnings: 0