Package: HiContacts Version: 1.9.0 Maintainer: Jacques Serizay MaintainerEmail: jacquesserizay at gmail.com git_url: https://git.bioconductor.org/packages/HiContacts git_branch: devel git_last_commit: 8328e67 git_last_commit_date: 2024-10-29 11:14:31 -0500 (Tue, 29 Oct 2024)