Package: HiContacts Version: 1.9.0 Command: /Library/Frameworks/R.framework/Resources/bin/R CMD build --keep-empty-dirs --no-resave-data HiContacts StartedAt: 2025-02-09 17:04:37 -0500 (Sun, 09 Feb 2025) EndedAt: 2025-02-09 17:11:33 -0500 (Sun, 09 Feb 2025) EllapsedTime: 415.5 seconds RetCode: 0 Status: OK PackageFile: HiContacts_1.9.0.tar.gz PackageFileSize: 5.376 MiB