Package: HiContacts Version: 1.9.0 Command: /Library/Frameworks/R.framework/Resources/bin/R CMD check --install=check:HiContacts.install-out.txt --library=/Library/Frameworks/R.framework/Resources/library --no-vignettes --timings HiContacts_1.9.0.tar.gz StartedAt: 2025-02-09 21:15:31 -0500 (Sun, 09 Feb 2025) EndedAt: 2025-02-09 21:25:33 -0500 (Sun, 09 Feb 2025) EllapsedTime: 601.8 seconds RetCode: 0 Status: OK CheckDir: HiContacts.Rcheck Warnings: 0