Package: HiContacts Version: 1.9.0 Command: /home/biocbuild/bbs-3.21-bioc/R/bin/R CMD INSTALL HiContacts StartedAt: 2025-02-09 15:24:43 -0500 (Sun, 09 Feb 2025) EndedAt: 2025-02-09 15:25:12 -0500 (Sun, 09 Feb 2025) EllapsedTime: 29.0 seconds RetCode: 0 Status: OK