Package: HiContacts Version: 1.9.0 Command: rm -rf HiContacts.buildbin-libdir && mkdir HiContacts.buildbin-libdir && E:\biocbuild\bbs-3.21-bioc\R\bin\R.exe CMD INSTALL --build --library=HiContacts.buildbin-libdir HiContacts_1.9.0.tar.gz StartedAt: 2025-02-13 08:06:29 -0500 (Thu, 13 Feb 2025) EndedAt: 2025-02-13 08:07:13 -0500 (Thu, 13 Feb 2025) EllapsedTime: 44.3 seconds RetCode: 0 Status: OK PackageFile: HiContacts_1.9.0.zip PackageFileSize: 4.144 MiB