Package: HiContacts Version: 1.9.0 Command: chmod a+r HiContacts -R && E:\biocbuild\bbs-3.21-bioc\R\bin\R.exe CMD build --keep-empty-dirs --no-resave-data HiContacts StartedAt: 2025-02-09 19:13:45 -0500 (Sun, 09 Feb 2025) EndedAt: 2025-02-09 19:25:55 -0500 (Sun, 09 Feb 2025) EllapsedTime: 729.3 seconds RetCode: 0 Status: OK PackageFile: HiContacts_1.9.0.tar.gz PackageFileSize: 3.992 MiB