Package: HiContacts Version: 1.9.0 Command: E:\biocbuild\bbs-3.21-bioc\R\bin\R.exe CMD check --no-multiarch --install=check:HiContacts.install-out.txt --library=E:\biocbuild\bbs-3.21-bioc\R\library --no-vignettes --timings HiContacts_1.9.0.tar.gz StartedAt: 2025-02-10 01:55:47 -0500 (Mon, 10 Feb 2025) EndedAt: 2025-02-10 02:13:29 -0500 (Mon, 10 Feb 2025) EllapsedTime: 1062.0 seconds RetCode: 0 Status: OK CheckDir: HiContacts.Rcheck Warnings: 0