Package: HiCool Version: 1.7.0 Command: /Library/Frameworks/R.framework/Resources/bin/R CMD build --keep-empty-dirs --no-resave-data HiCool StartedAt: 2025-02-04 16:37:03 -0500 (Tue, 04 Feb 2025) EndedAt: 2025-02-04 16:37:51 -0500 (Tue, 04 Feb 2025) EllapsedTime: 47.5 seconds RetCode: 1 Status: ERROR PackageFile: None PackageFileSize: NA