Package: HiCool Version: 1.7.0 Command: /Library/Frameworks/R.framework/Resources/bin/R CMD INSTALL HiCool StartedAt: 2025-02-09 15:16:26 -0500 (Sun, 09 Feb 2025) EndedAt: 2025-02-09 15:16:35 -0500 (Sun, 09 Feb 2025) EllapsedTime: 8.9 seconds RetCode: 0 Status: OK