Package: HiCool Version: 1.7.0 Command: /home/biocbuild/R/R/bin/R CMD INSTALL HiCool StartedAt: 2025-01-29 20:08:19 -0000 (Wed, 29 Jan 2025) EndedAt: 2025-01-29 20:08:46 -0000 (Wed, 29 Jan 2025) EllapsedTime: 26.9 seconds RetCode: 0 Status: OK