Package: HiCool Version: 1.7.0 Command: rm -rf HiCool.buildbin-libdir && mkdir HiCool.buildbin-libdir && /Users/biocbuild/BBS/utils/build-universal.sh HiCool_1.7.0.tar.gz /Library/Frameworks/R.framework/Resources/bin/R HiCool.buildbin-libdir StartedAt: 2025-02-10 00:57:43 -0500 (Mon, 10 Feb 2025) EndedAt: 2025-02-10 00:58:18 -0500 (Mon, 10 Feb 2025) EllapsedTime: 34.9 seconds RetCode: 0 Status: OK PackageFile: HiCool_1.7.0.tgz PackageFileSize: 729.8 KiB