Package: HiCool Version: 1.7.0 Command: /Library/Frameworks/R.framework/Resources/bin/R CMD build --keep-empty-dirs --no-resave-data HiCool StartedAt: 2025-02-09 17:04:46 -0500 (Sun, 09 Feb 2025) EndedAt: 2025-02-09 17:06:53 -0500 (Sun, 09 Feb 2025) EllapsedTime: 126.8 seconds RetCode: 0 Status: OK PackageFile: HiCool_1.7.0.tar.gz PackageFileSize: 701.7 KiB