Package: HiCool Version: 1.7.0 Command: /home/biocbuild/bbs-3.21-bioc/R/bin/R CMD build --keep-empty-dirs --no-resave-data HiCool StartedAt: 2025-02-09 17:38:13 -0500 (Sun, 09 Feb 2025) EndedAt: 2025-02-09 17:39:59 -0500 (Sun, 09 Feb 2025) EllapsedTime: 106.1 seconds RetCode: 0 Status: OK PackageFile: HiCool_1.7.0.tar.gz PackageFileSize: 701.8 KiB