Package: HiCool Version: 1.7.0 Command: /home/biocbuild/bbs-3.21-bioc/R/bin/R CMD check --install=check:HiCool.install-out.txt --library=/home/biocbuild/bbs-3.21-bioc/R/site-library --timings HiCool_1.7.0.tar.gz StartedAt: 2025-02-04 23:07:19 -0500 (Tue, 04 Feb 2025) EndedAt: 2025-02-04 23:13:56 -0500 (Tue, 04 Feb 2025) EllapsedTime: 396.6 seconds RetCode: 0 Status: OK CheckDir: HiCool.Rcheck Warnings: 0