Package: HiCool Version: 1.7.0 Command: /home/biocbuild/bbs-3.21-bioc/R/bin/R CMD INSTALL HiCool StartedAt: 2025-02-09 15:24:44 -0500 (Sun, 09 Feb 2025) EndedAt: 2025-02-09 15:25:04 -0500 (Sun, 09 Feb 2025) EllapsedTime: 20.0 seconds RetCode: 0 Status: OK