Package: HiTC Version: 1.51.0 Command: /Library/Frameworks/R.framework/Resources/bin/R CMD build --keep-empty-dirs --no-resave-data HiTC StartedAt: 2025-02-09 16:37:54 -0500 (Sun, 09 Feb 2025) EndedAt: 2025-02-09 16:38:46 -0500 (Sun, 09 Feb 2025) EllapsedTime: 51.5 seconds RetCode: 0 Status: OK PackageFile: HiTC_1.51.0.tar.gz PackageFileSize: 3.126 MiB