Package: HiTC Version: 1.51.0 Command: /Library/Frameworks/R.framework/Resources/bin/R CMD check --install=check:HiTC.install-out.txt --library=/Library/Frameworks/R.framework/Resources/library --no-vignettes --timings HiTC_1.51.0.tar.gz StartedAt: 2025-02-09 21:17:39 -0500 (Sun, 09 Feb 2025) EndedAt: 2025-02-09 21:22:31 -0500 (Sun, 09 Feb 2025) EllapsedTime: 292.5 seconds RetCode: 0 Status: WARNINGS CheckDir: HiTC.Rcheck Warnings: 1