Package: HiTC Version: 1.51.0 Command: /home/biocbuild/bbs-3.21-bioc/R/bin/R CMD check --install=check:HiTC.install-out.txt --library=/home/biocbuild/bbs-3.21-bioc/R/site-library --timings HiTC_1.51.0.tar.gz StartedAt: 2025-02-09 23:11:00 -0500 (Sun, 09 Feb 2025) EndedAt: 2025-02-09 23:17:18 -0500 (Sun, 09 Feb 2025) EllapsedTime: 377.5 seconds RetCode: 0 Status: WARNINGS CheckDir: HiTC.Rcheck Warnings: 2