Package: HiTC Version: 1.51.0 Command: chmod a+r HiTC -R && E:\biocbuild\bbs-3.21-bioc\R\bin\R.exe CMD build --keep-empty-dirs --no-resave-data HiTC StartedAt: 2025-02-09 19:15:41 -0500 (Sun, 09 Feb 2025) EndedAt: 2025-02-09 19:20:06 -0500 (Sun, 09 Feb 2025) EllapsedTime: 264.8 seconds RetCode: 0 Status: OK PackageFile: HiTC_1.51.0.tar.gz PackageFileSize: 3 MiB