Package: HiTC Version: 1.51.0 Command: E:\biocbuild\bbs-3.21-bioc\R\bin\R.exe CMD check --no-multiarch --install=check:HiTC.install-out.txt --library=E:\biocbuild\bbs-3.21-bioc\R\library --no-vignettes --timings HiTC_1.51.0.tar.gz StartedAt: 2025-02-10 01:58:23 -0500 (Mon, 10 Feb 2025) EndedAt: 2025-02-10 02:03:32 -0500 (Mon, 10 Feb 2025) EllapsedTime: 308.9 seconds RetCode: 0 Status: WARNINGS CheckDir: HiTC.Rcheck Warnings: 1