Package: HilbertCurve Version: 2.1.0 Command: /home/biocbuild/R/R/bin/R CMD check --install=check:HilbertCurve.install-out.txt --library=/home/biocbuild/R/R/site-library --no-vignettes --timings HilbertCurve_2.1.0.tar.gz StartedAt: 2025-01-28 11:29:56 -0000 (Tue, 28 Jan 2025) EndedAt: 2025-01-28 11:32:32 -0000 (Tue, 28 Jan 2025) EllapsedTime: 156.2 seconds RetCode: 0 Status: OK CheckDir: HilbertCurve.Rcheck Warnings: 0