Package: HilbertCurve Version: 2.1.0 Command: /home/biocbuild/R/R/bin/R CMD INSTALL HilbertCurve StartedAt: 2025-01-29 19:38:00 -0000 (Wed, 29 Jan 2025) EndedAt: 2025-01-29 19:38:36 -0000 (Wed, 29 Jan 2025) EllapsedTime: 35.8 seconds RetCode: 0 Status: OK