Package: HilbertCurve Version: 2.1.0 Command: rm -rf HilbertCurve.buildbin-libdir && mkdir HilbertCurve.buildbin-libdir && /Users/biocbuild/BBS/utils/build-universal.sh HilbertCurve_2.1.0.tar.gz /Library/Frameworks/R.framework/Resources/bin/R HilbertCurve.buildbin-libdir StartedAt: 2025-02-13 00:40:52 -0500 (Thu, 13 Feb 2025) EndedAt: 2025-02-13 00:41:24 -0500 (Thu, 13 Feb 2025) EllapsedTime: 31.3 seconds RetCode: 0 Status: OK PackageFile: HilbertCurve_2.1.0.tgz PackageFileSize: 750.1 KiB