Package: HilbertCurve Version: 2.1.0 Command: /home/biocbuild/bbs-3.21-bioc/R/bin/R CMD check --install=check:HilbertCurve.install-out.txt --library=/home/biocbuild/bbs-3.21-bioc/R/site-library --timings HilbertCurve_2.1.0.tar.gz StartedAt: 2025-02-09 23:09:53 -0500 (Sun, 09 Feb 2025) EndedAt: 2025-02-09 23:12:00 -0500 (Sun, 09 Feb 2025) EllapsedTime: 127.2 seconds RetCode: 0 Status: OK CheckDir: HilbertCurve.Rcheck Warnings: 0