Package: HilbertCurve Version: 2.1.0 Command: /home/biocbuild/bbs-3.21-bioc/R/bin/R CMD INSTALL HilbertCurve StartedAt: 2025-02-09 15:16:52 -0500 (Sun, 09 Feb 2025) EndedAt: 2025-02-09 15:17:13 -0500 (Sun, 09 Feb 2025) EllapsedTime: 21.5 seconds RetCode: 0 Status: OK