Package: HilbertVis Version: 1.65.0 Maintainer: Simon Anders MaintainerEmail: sanders at fs.tum.de git_url: https://git.bioconductor.org/packages/HilbertVis git_branch: devel git_last_commit: 4c32450 git_last_commit_date: 2024-10-29 09:30:29 -0500 (Tue, 29 Oct 2024)