Package: HilbertVis Version: 1.65.0 Command: /home/biocbuild/R/R/bin/R CMD INSTALL HilbertVis StartedAt: 2025-01-29 19:32:37 -0000 (Wed, 29 Jan 2025) EndedAt: 2025-01-29 19:32:53 -0000 (Wed, 29 Jan 2025) EllapsedTime: 15.3 seconds RetCode: 1 Status: ERROR