Package: HilbertVis Version: 1.65.0 Command: /home/biocbuild/bbs-3.21-bioc/R/bin/R CMD build --keep-empty-dirs --no-resave-data HilbertVis StartedAt: 2025-02-12 17:35:53 -0500 (Wed, 12 Feb 2025) EndedAt: 2025-02-12 17:36:02 -0500 (Wed, 12 Feb 2025) EllapsedTime: 9.0 seconds RetCode: 0 Status: OK PackageFile: HilbertVis_1.65.0.tar.gz PackageFileSize: 1.206 MiB