Package: HilbertVis Version: 1.65.0 Command: /home/biocbuild/bbs-3.21-bioc/R/bin/R CMD INSTALL HilbertVis StartedAt: 2025-02-09 15:03:32 -0500 (Sun, 09 Feb 2025) EndedAt: 2025-02-09 15:03:51 -0500 (Sun, 09 Feb 2025) EllapsedTime: 19.0 seconds RetCode: 0 Status: OK